BEGIN:VCALENDAR
VERSION:2.0
PRODID:-//Thunder Bay Golf - ECPv6.15.18//NONSGML v1.0//EN
CALSCALE:GREGORIAN
METHOD:PUBLISH
X-WR-CALNAME:Thunder Bay Golf
X-ORIGINAL-URL:https://www.thunderbaycc.ca
X-WR-CALDESC:Events for Thunder Bay Golf
REFRESH-INTERVAL;VALUE=DURATION:PT1H
X-Robots-Tag:noindex
X-PUBLISHED-TTL:PT1H
BEGIN:VTIMEZONE
TZID:America/New_York
BEGIN:DAYLIGHT
TZOFFSETFROM:-0500
TZOFFSETTO:-0400
TZNAME:EDT
DTSTART:20250309T070000
END:DAYLIGHT
BEGIN:STANDARD
TZOFFSETFROM:-0400
TZOFFSETTO:-0500
TZNAME:EST
DTSTART:20251102T060000
END:STANDARD
BEGIN:DAYLIGHT
TZOFFSETFROM:-0500
TZOFFSETTO:-0400
TZNAME:EDT
DTSTART:20260308T070000
END:DAYLIGHT
BEGIN:STANDARD
TZOFFSETFROM:-0400
TZOFFSETTO:-0500
TZNAME:EST
DTSTART:20261101T060000
END:STANDARD
BEGIN:DAYLIGHT
TZOFFSETFROM:-0500
TZOFFSETTO:-0400
TZNAME:EDT
DTSTART:20270314T070000
END:DAYLIGHT
BEGIN:STANDARD
TZOFFSETFROM:-0400
TZOFFSETTO:-0500
TZNAME:EST
DTSTART:20271107T060000
END:STANDARD
END:VTIMEZONE
BEGIN:VEVENT
DTSTART;TZID=America/New_York:20260518T150000
DTEND;TZID=America/New_York:20260518T180000
DTSTAMP:20260423T175310
CREATED:20260422T185915Z
LAST-MODIFIED:20260422T185915Z
UID:10000886-1779116400-1779127200@www.thunderbaycc.ca
SUMMARY:Ladies
DESCRIPTION:3:00 PM-6:00 PM
URL:https://www.thunderbaycc.ca/event/ladies/2026-05-18/
END:VEVENT
BEGIN:VEVENT
DTSTART;TZID=America/New_York:20260525T150000
DTEND;TZID=America/New_York:20260525T180000
DTSTAMP:20260423T175310
CREATED:20260422T185915Z
LAST-MODIFIED:20260422T185915Z
UID:10000887-1779721200-1779732000@www.thunderbaycc.ca
SUMMARY:Ladies
DESCRIPTION:3:00 PM-6:00 PM
URL:https://www.thunderbaycc.ca/event/ladies/2026-05-25/
END:VEVENT
BEGIN:VEVENT
DTSTART;TZID=America/New_York:20260601T150000
DTEND;TZID=America/New_York:20260601T180000
DTSTAMP:20260423T175310
CREATED:20260422T185915Z
LAST-MODIFIED:20260422T185915Z
UID:10000888-1780326000-1780336800@www.thunderbaycc.ca
SUMMARY:Ladies
DESCRIPTION:3:00 PM-6:00 PM
URL:https://www.thunderbaycc.ca/event/ladies/2026-06-01/
END:VEVENT
BEGIN:VEVENT
DTSTART;TZID=America/New_York:20260608T150000
DTEND;TZID=America/New_York:20260608T180000
DTSTAMP:20260423T175310
CREATED:20260422T185915Z
LAST-MODIFIED:20260422T185915Z
UID:10000889-1780930800-1780941600@www.thunderbaycc.ca
SUMMARY:Ladies
DESCRIPTION:3:00 PM-6:00 PM
URL:https://www.thunderbaycc.ca/event/ladies/2026-06-08/
END:VEVENT
BEGIN:VEVENT
DTSTART;TZID=America/New_York:20260615T150000
DTEND;TZID=America/New_York:20260615T180000
DTSTAMP:20260423T175310
CREATED:20260422T185915Z
LAST-MODIFIED:20260422T185915Z
UID:10000890-1781535600-1781546400@www.thunderbaycc.ca
SUMMARY:Ladies
DESCRIPTION:3:00 PM-6:00 PM
URL:https://www.thunderbaycc.ca/event/ladies/2026-06-15/
END:VEVENT
BEGIN:VEVENT
DTSTART;TZID=America/New_York:20260622T150000
DTEND;TZID=America/New_York:20260622T180000
DTSTAMP:20260423T175310
CREATED:20260422T185915Z
LAST-MODIFIED:20260422T185915Z
UID:10000891-1782140400-1782151200@www.thunderbaycc.ca
SUMMARY:Ladies
DESCRIPTION:3:00 PM-6:00 PM
URL:https://www.thunderbaycc.ca/event/ladies/2026-06-22/
END:VEVENT
BEGIN:VEVENT
DTSTART;TZID=America/New_York:20260629T150000
DTEND;TZID=America/New_York:20260629T180000
DTSTAMP:20260423T175310
CREATED:20260422T185915Z
LAST-MODIFIED:20260422T185915Z
UID:10000892-1782745200-1782756000@www.thunderbaycc.ca
SUMMARY:Ladies
DESCRIPTION:3:00 PM-6:00 PM
URL:https://www.thunderbaycc.ca/event/ladies/2026-06-29/
END:VEVENT
BEGIN:VEVENT
DTSTART;TZID=America/New_York:20260706T150000
DTEND;TZID=America/New_York:20260706T180000
DTSTAMP:20260423T175310
CREATED:20260422T185915Z
LAST-MODIFIED:20260422T185915Z
UID:10000893-1783350000-1783360800@www.thunderbaycc.ca
SUMMARY:Ladies
DESCRIPTION:3:00 PM-6:00 PM
URL:https://www.thunderbaycc.ca/event/ladies/2026-07-06/
END:VEVENT
BEGIN:VEVENT
DTSTART;TZID=America/New_York:20260713T150000
DTEND;TZID=America/New_York:20260713T180000
DTSTAMP:20260423T175310
CREATED:20260422T185915Z
LAST-MODIFIED:20260422T185915Z
UID:10000894-1783954800-1783965600@www.thunderbaycc.ca
SUMMARY:Ladies
DESCRIPTION:3:00 PM-6:00 PM
URL:https://www.thunderbaycc.ca/event/ladies/2026-07-13/
END:VEVENT
BEGIN:VEVENT
DTSTART;TZID=America/New_York:20260720T150000
DTEND;TZID=America/New_York:20260720T180000
DTSTAMP:20260423T175310
CREATED:20260422T185915Z
LAST-MODIFIED:20260422T185915Z
UID:10000895-1784559600-1784570400@www.thunderbaycc.ca
SUMMARY:Ladies
DESCRIPTION:3:00 PM-6:00 PM
URL:https://www.thunderbaycc.ca/event/ladies/2026-07-20/
END:VEVENT
BEGIN:VEVENT
DTSTART;TZID=America/New_York:20260727T150000
DTEND;TZID=America/New_York:20260727T180000
DTSTAMP:20260423T175310
CREATED:20260422T185915Z
LAST-MODIFIED:20260422T185915Z
UID:10000896-1785164400-1785175200@www.thunderbaycc.ca
SUMMARY:Ladies
DESCRIPTION:3:00 PM-6:00 PM
URL:https://www.thunderbaycc.ca/event/ladies/2026-07-27/
END:VEVENT
BEGIN:VEVENT
DTSTART;TZID=America/New_York:20260803T150000
DTEND;TZID=America/New_York:20260803T180000
DTSTAMP:20260423T175310
CREATED:20260422T185915Z
LAST-MODIFIED:20260422T185915Z
UID:10000897-1785769200-1785780000@www.thunderbaycc.ca
SUMMARY:Ladies
DESCRIPTION:3:00 PM-6:00 PM
URL:https://www.thunderbaycc.ca/event/ladies/2026-08-03/
END:VEVENT
BEGIN:VEVENT
DTSTART;TZID=America/New_York:20260810T150000
DTEND;TZID=America/New_York:20260810T180000
DTSTAMP:20260423T175310
CREATED:20260422T185915Z
LAST-MODIFIED:20260422T185915Z
UID:10000898-1786374000-1786384800@www.thunderbaycc.ca
SUMMARY:Ladies
DESCRIPTION:3:00 PM-6:00 PM
URL:https://www.thunderbaycc.ca/event/ladies/2026-08-10/
END:VEVENT
BEGIN:VEVENT
DTSTART;TZID=America/New_York:20260817T150000
DTEND;TZID=America/New_York:20260817T180000
DTSTAMP:20260423T175310
CREATED:20260422T185915Z
LAST-MODIFIED:20260422T185915Z
UID:10000899-1786978800-1786989600@www.thunderbaycc.ca
SUMMARY:Ladies
DESCRIPTION:3:00 PM-6:00 PM
URL:https://www.thunderbaycc.ca/event/ladies/2026-08-17/
END:VEVENT
BEGIN:VEVENT
DTSTART;TZID=America/New_York:20260824T150000
DTEND;TZID=America/New_York:20260824T180000
DTSTAMP:20260423T175310
CREATED:20260422T185915Z
LAST-MODIFIED:20260422T185915Z
UID:10000900-1787583600-1787594400@www.thunderbaycc.ca
SUMMARY:Ladies
DESCRIPTION:3:00 PM-6:00 PM
URL:https://www.thunderbaycc.ca/event/ladies/2026-08-24/
END:VEVENT
BEGIN:VEVENT
DTSTART;TZID=America/New_York:20260831T150000
DTEND;TZID=America/New_York:20260831T180000
DTSTAMP:20260423T175310
CREATED:20260422T185915Z
LAST-MODIFIED:20260422T185915Z
UID:10000901-1788188400-1788199200@www.thunderbaycc.ca
SUMMARY:Ladies
DESCRIPTION:3:00 PM-6:00 PM
URL:https://www.thunderbaycc.ca/event/ladies/2026-08-31/
END:VEVENT
BEGIN:VEVENT
DTSTART;TZID=America/New_York:20260907T150000
DTEND;TZID=America/New_York:20260907T180000
DTSTAMP:20260423T175310
CREATED:20260422T185915Z
LAST-MODIFIED:20260422T185915Z
UID:10000902-1788793200-1788804000@www.thunderbaycc.ca
SUMMARY:Ladies
DESCRIPTION:3:00 PM-6:00 PM
URL:https://www.thunderbaycc.ca/event/ladies/2026-09-07/
END:VEVENT
BEGIN:VEVENT
DTSTART;TZID=America/New_York:20260914T150000
DTEND;TZID=America/New_York:20260914T180000
DTSTAMP:20260423T175310
CREATED:20260422T185915Z
LAST-MODIFIED:20260422T185915Z
UID:10000903-1789398000-1789408800@www.thunderbaycc.ca
SUMMARY:Ladies
DESCRIPTION:3:00 PM-6:00 PM
URL:https://www.thunderbaycc.ca/event/ladies/2026-09-14/
END:VEVENT
BEGIN:VEVENT
DTSTART;TZID=America/New_York:20260921T150000
DTEND;TZID=America/New_York:20260921T180000
DTSTAMP:20260423T175310
CREATED:20260422T185915Z
LAST-MODIFIED:20260422T185915Z
UID:10000904-1790002800-1790013600@www.thunderbaycc.ca
SUMMARY:Ladies
DESCRIPTION:3:00 PM-6:00 PM
URL:https://www.thunderbaycc.ca/event/ladies/2026-09-21/
END:VEVENT
BEGIN:VEVENT
DTSTART;TZID=America/New_York:20260928T150000
DTEND;TZID=America/New_York:20260928T180000
DTSTAMP:20260423T175310
CREATED:20260422T185915Z
LAST-MODIFIED:20260422T185915Z
UID:10000905-1790607600-1790618400@www.thunderbaycc.ca
SUMMARY:Ladies
DESCRIPTION:3:00 PM-6:00 PM
URL:https://www.thunderbaycc.ca/event/ladies/2026-09-28/
END:VEVENT
BEGIN:VEVENT
DTSTART;TZID=America/New_York:20261005T150000
DTEND;TZID=America/New_York:20261005T180000
DTSTAMP:20260423T175310
CREATED:20260422T185915Z
LAST-MODIFIED:20260422T185915Z
UID:10000906-1791212400-1791223200@www.thunderbaycc.ca
SUMMARY:Ladies
DESCRIPTION:3:00 PM-6:00 PM
URL:https://www.thunderbaycc.ca/event/ladies/2026-10-05/
END:VEVENT
END:VCALENDAR