BEGIN:VCALENDAR
VERSION:2.0
PRODID:-//Thunder Bay Golf - ECPv6.15.18//NONSGML v1.0//EN
CALSCALE:GREGORIAN
METHOD:PUBLISH
X-WR-CALNAME:Thunder Bay Golf
X-ORIGINAL-URL:https://www.thunderbaycc.ca
X-WR-CALDESC:Events for Thunder Bay Golf
REFRESH-INTERVAL;VALUE=DURATION:PT1H
X-Robots-Tag:noindex
X-PUBLISHED-TTL:PT1H
BEGIN:VTIMEZONE
TZID:America/New_York
BEGIN:DAYLIGHT
TZOFFSETFROM:-0500
TZOFFSETTO:-0400
TZNAME:EDT
DTSTART:20250309T070000
END:DAYLIGHT
BEGIN:STANDARD
TZOFFSETFROM:-0400
TZOFFSETTO:-0500
TZNAME:EST
DTSTART:20251102T060000
END:STANDARD
BEGIN:DAYLIGHT
TZOFFSETFROM:-0500
TZOFFSETTO:-0400
TZNAME:EDT
DTSTART:20260308T070000
END:DAYLIGHT
BEGIN:STANDARD
TZOFFSETFROM:-0400
TZOFFSETTO:-0500
TZNAME:EST
DTSTART:20261101T060000
END:STANDARD
BEGIN:DAYLIGHT
TZOFFSETFROM:-0500
TZOFFSETTO:-0400
TZNAME:EDT
DTSTART:20270314T070000
END:DAYLIGHT
BEGIN:STANDARD
TZOFFSETFROM:-0400
TZOFFSETTO:-0500
TZNAME:EST
DTSTART:20271107T060000
END:STANDARD
BEGIN:DAYLIGHT
TZOFFSETFROM:-0500
TZOFFSETTO:-0400
TZNAME:EDT
DTSTART:20280312T070000
END:DAYLIGHT
BEGIN:STANDARD
TZOFFSETFROM:-0400
TZOFFSETTO:-0500
TZNAME:EST
DTSTART:20281105T060000
END:STANDARD
END:VTIMEZONE
BEGIN:VEVENT
DTSTART;TZID=America/New_York:20261209T100000
DTEND;TZID=America/New_York:20261209T100000
DTSTAMP:20260424T071658
CREATED:20260422T185517Z
LAST-MODIFIED:20260422T185517Z
UID:10000841-1796810400-1796810400@www.thunderbaycc.ca
SUMMARY:Senior Mens
DESCRIPTION:10 AM Shotgun
URL:https://www.thunderbaycc.ca/event/senior-mens/2026-12-09/
END:VEVENT
BEGIN:VEVENT
DTSTART;TZID=America/New_York:20261216T100000
DTEND;TZID=America/New_York:20261216T100000
DTSTAMP:20260424T071658
CREATED:20260422T185517Z
LAST-MODIFIED:20260422T185517Z
UID:10000842-1797415200-1797415200@www.thunderbaycc.ca
SUMMARY:Senior Mens
DESCRIPTION:10 AM Shotgun
URL:https://www.thunderbaycc.ca/event/senior-mens/2026-12-16/
END:VEVENT
BEGIN:VEVENT
DTSTART;TZID=America/New_York:20261223T100000
DTEND;TZID=America/New_York:20261223T100000
DTSTAMP:20260424T071658
CREATED:20260422T185517Z
LAST-MODIFIED:20260422T185517Z
UID:10000843-1798020000-1798020000@www.thunderbaycc.ca
SUMMARY:Senior Mens
DESCRIPTION:10 AM Shotgun
URL:https://www.thunderbaycc.ca/event/senior-mens/2026-12-23/
END:VEVENT
BEGIN:VEVENT
DTSTART;TZID=America/New_York:20261230T100000
DTEND;TZID=America/New_York:20261230T100000
DTSTAMP:20260424T071658
CREATED:20260422T185517Z
LAST-MODIFIED:20260422T185517Z
UID:10000844-1798624800-1798624800@www.thunderbaycc.ca
SUMMARY:Senior Mens
DESCRIPTION:10 AM Shotgun
URL:https://www.thunderbaycc.ca/event/senior-mens/2026-12-30/
END:VEVENT
BEGIN:VEVENT
DTSTART;TZID=America/New_York:20270106T100000
DTEND;TZID=America/New_York:20270106T100000
DTSTAMP:20260424T071658
CREATED:20260422T185517Z
LAST-MODIFIED:20260422T185517Z
UID:10000845-1799229600-1799229600@www.thunderbaycc.ca
SUMMARY:Senior Mens
DESCRIPTION:10 AM Shotgun
URL:https://www.thunderbaycc.ca/event/senior-mens/2027-01-06/
END:VEVENT
BEGIN:VEVENT
DTSTART;TZID=America/New_York:20270113T100000
DTEND;TZID=America/New_York:20270113T100000
DTSTAMP:20260424T071658
CREATED:20260422T185517Z
LAST-MODIFIED:20260422T185517Z
UID:10000846-1799834400-1799834400@www.thunderbaycc.ca
SUMMARY:Senior Mens
DESCRIPTION:10 AM Shotgun
URL:https://www.thunderbaycc.ca/event/senior-mens/2027-01-13/
END:VEVENT
BEGIN:VEVENT
DTSTART;TZID=America/New_York:20270120T100000
DTEND;TZID=America/New_York:20270120T100000
DTSTAMP:20260424T071658
CREATED:20260422T185517Z
LAST-MODIFIED:20260422T185517Z
UID:10000847-1800439200-1800439200@www.thunderbaycc.ca
SUMMARY:Senior Mens
DESCRIPTION:10 AM Shotgun
URL:https://www.thunderbaycc.ca/event/senior-mens/2027-01-20/
END:VEVENT
BEGIN:VEVENT
DTSTART;TZID=America/New_York:20270127T100000
DTEND;TZID=America/New_York:20270127T100000
DTSTAMP:20260424T071658
CREATED:20260422T185517Z
LAST-MODIFIED:20260422T185517Z
UID:10000848-1801044000-1801044000@www.thunderbaycc.ca
SUMMARY:Senior Mens
DESCRIPTION:10 AM Shotgun
URL:https://www.thunderbaycc.ca/event/senior-mens/2027-01-27/
END:VEVENT
BEGIN:VEVENT
DTSTART;TZID=America/New_York:20270203T100000
DTEND;TZID=America/New_York:20270203T100000
DTSTAMP:20260424T071658
CREATED:20260422T185517Z
LAST-MODIFIED:20260422T185517Z
UID:10000849-1801648800-1801648800@www.thunderbaycc.ca
SUMMARY:Senior Mens
DESCRIPTION:10 AM Shotgun
URL:https://www.thunderbaycc.ca/event/senior-mens/2027-02-03/
END:VEVENT
BEGIN:VEVENT
DTSTART;TZID=America/New_York:20270210T100000
DTEND;TZID=America/New_York:20270210T100000
DTSTAMP:20260424T071658
CREATED:20260422T185517Z
LAST-MODIFIED:20260422T185517Z
UID:10000850-1802253600-1802253600@www.thunderbaycc.ca
SUMMARY:Senior Mens
DESCRIPTION:10 AM Shotgun
URL:https://www.thunderbaycc.ca/event/senior-mens/2027-02-10/
END:VEVENT
BEGIN:VEVENT
DTSTART;TZID=America/New_York:20270217T100000
DTEND;TZID=America/New_York:20270217T100000
DTSTAMP:20260424T071658
CREATED:20260422T185517Z
LAST-MODIFIED:20260422T185517Z
UID:10000851-1802858400-1802858400@www.thunderbaycc.ca
SUMMARY:Senior Mens
DESCRIPTION:10 AM Shotgun
URL:https://www.thunderbaycc.ca/event/senior-mens/2027-02-17/
END:VEVENT
BEGIN:VEVENT
DTSTART;TZID=America/New_York:20270224T100000
DTEND;TZID=America/New_York:20270224T100000
DTSTAMP:20260424T071658
CREATED:20260422T185517Z
LAST-MODIFIED:20260422T185517Z
UID:10000852-1803463200-1803463200@www.thunderbaycc.ca
SUMMARY:Senior Mens
DESCRIPTION:10 AM Shotgun
URL:https://www.thunderbaycc.ca/event/senior-mens/2027-02-24/
END:VEVENT
BEGIN:VEVENT
DTSTART;TZID=America/New_York:20270303T100000
DTEND;TZID=America/New_York:20270303T100000
DTSTAMP:20260424T071658
CREATED:20260422T185517Z
LAST-MODIFIED:20260422T185517Z
UID:10000853-1804068000-1804068000@www.thunderbaycc.ca
SUMMARY:Senior Mens
DESCRIPTION:10 AM Shotgun
URL:https://www.thunderbaycc.ca/event/senior-mens/2027-03-03/
END:VEVENT
BEGIN:VEVENT
DTSTART;TZID=America/New_York:20270310T100000
DTEND;TZID=America/New_York:20270310T100000
DTSTAMP:20260424T071658
CREATED:20260422T185517Z
LAST-MODIFIED:20260422T185517Z
UID:10000854-1804672800-1804672800@www.thunderbaycc.ca
SUMMARY:Senior Mens
DESCRIPTION:10 AM Shotgun
URL:https://www.thunderbaycc.ca/event/senior-mens/2027-03-10/
END:VEVENT
BEGIN:VEVENT
DTSTART;TZID=America/New_York:20270317T100000
DTEND;TZID=America/New_York:20270317T100000
DTSTAMP:20260424T071658
CREATED:20260422T185517Z
LAST-MODIFIED:20260422T185517Z
UID:10000855-1805277600-1805277600@www.thunderbaycc.ca
SUMMARY:Senior Mens
DESCRIPTION:10 AM Shotgun
URL:https://www.thunderbaycc.ca/event/senior-mens/2027-03-17/
END:VEVENT
BEGIN:VEVENT
DTSTART;TZID=America/New_York:20270324T100000
DTEND;TZID=America/New_York:20270324T100000
DTSTAMP:20260424T071658
CREATED:20260422T185517Z
LAST-MODIFIED:20260422T185517Z
UID:10000856-1805882400-1805882400@www.thunderbaycc.ca
SUMMARY:Senior Mens
DESCRIPTION:10 AM Shotgun
URL:https://www.thunderbaycc.ca/event/senior-mens/2027-03-24/
END:VEVENT
BEGIN:VEVENT
DTSTART;TZID=America/New_York:20270331T100000
DTEND;TZID=America/New_York:20270331T100000
DTSTAMP:20260424T071658
CREATED:20260422T185517Z
LAST-MODIFIED:20260422T185517Z
UID:10000857-1806487200-1806487200@www.thunderbaycc.ca
SUMMARY:Senior Mens
DESCRIPTION:10 AM Shotgun
URL:https://www.thunderbaycc.ca/event/senior-mens/2027-03-31/
END:VEVENT
BEGIN:VEVENT
DTSTART;TZID=America/New_York:20270407T100000
DTEND;TZID=America/New_York:20270407T100000
DTSTAMP:20260424T071658
CREATED:20260422T185517Z
LAST-MODIFIED:20260422T185517Z
UID:10000858-1807092000-1807092000@www.thunderbaycc.ca
SUMMARY:Senior Mens
DESCRIPTION:10 AM Shotgun
URL:https://www.thunderbaycc.ca/event/senior-mens/2027-04-07/
END:VEVENT
BEGIN:VEVENT
DTSTART;TZID=America/New_York:20270414T100000
DTEND;TZID=America/New_York:20270414T100000
DTSTAMP:20260424T071658
CREATED:20260422T185517Z
LAST-MODIFIED:20260422T185517Z
UID:10000859-1807696800-1807696800@www.thunderbaycc.ca
SUMMARY:Senior Mens
DESCRIPTION:10 AM Shotgun
URL:https://www.thunderbaycc.ca/event/senior-mens/2027-04-14/
END:VEVENT
BEGIN:VEVENT
DTSTART;TZID=America/New_York:20270421T100000
DTEND;TZID=America/New_York:20270421T100000
DTSTAMP:20260424T071658
CREATED:20260422T185517Z
LAST-MODIFIED:20260422T185517Z
UID:10000860-1808301600-1808301600@www.thunderbaycc.ca
SUMMARY:Senior Mens
DESCRIPTION:10 AM Shotgun
URL:https://www.thunderbaycc.ca/event/senior-mens/2027-04-21/
END:VEVENT
BEGIN:VEVENT
DTSTART;TZID=America/New_York:20270428T100000
DTEND;TZID=America/New_York:20270428T100000
DTSTAMP:20260424T071658
CREATED:20260422T185517Z
LAST-MODIFIED:20260422T185517Z
UID:10000861-1808906400-1808906400@www.thunderbaycc.ca
SUMMARY:Senior Mens
DESCRIPTION:10 AM Shotgun
URL:https://www.thunderbaycc.ca/event/senior-mens/2027-04-28/
END:VEVENT
BEGIN:VEVENT
DTSTART;TZID=America/New_York:20270505T100000
DTEND;TZID=America/New_York:20270505T100000
DTSTAMP:20260424T071658
CREATED:20260422T185517Z
LAST-MODIFIED:20260422T185517Z
UID:10000862-1809511200-1809511200@www.thunderbaycc.ca
SUMMARY:Senior Mens
DESCRIPTION:10 AM Shotgun
URL:https://www.thunderbaycc.ca/event/senior-mens/2027-05-05/
END:VEVENT
BEGIN:VEVENT
DTSTART;TZID=America/New_York:20270512T100000
DTEND;TZID=America/New_York:20270512T100000
DTSTAMP:20260424T071658
CREATED:20260422T185517Z
LAST-MODIFIED:20260422T185517Z
UID:10000863-1810116000-1810116000@www.thunderbaycc.ca
SUMMARY:Senior Mens
DESCRIPTION:10 AM Shotgun
URL:https://www.thunderbaycc.ca/event/senior-mens/2027-05-12/
END:VEVENT
BEGIN:VEVENT
DTSTART;TZID=America/New_York:20270519T100000
DTEND;TZID=America/New_York:20270519T100000
DTSTAMP:20260424T071658
CREATED:20260422T185517Z
LAST-MODIFIED:20260422T185517Z
UID:10000864-1810720800-1810720800@www.thunderbaycc.ca
SUMMARY:Senior Mens
DESCRIPTION:10 AM Shotgun
URL:https://www.thunderbaycc.ca/event/senior-mens/2027-05-19/
END:VEVENT
BEGIN:VEVENT
DTSTART;TZID=America/New_York:20270526T100000
DTEND;TZID=America/New_York:20270526T100000
DTSTAMP:20260424T071658
CREATED:20260422T185517Z
LAST-MODIFIED:20260422T185517Z
UID:10000865-1811325600-1811325600@www.thunderbaycc.ca
SUMMARY:Senior Mens
DESCRIPTION:10 AM Shotgun
URL:https://www.thunderbaycc.ca/event/senior-mens/2027-05-26/
END:VEVENT
BEGIN:VEVENT
DTSTART;TZID=America/New_York:20270602T100000
DTEND;TZID=America/New_York:20270602T100000
DTSTAMP:20260424T071658
CREATED:20260422T185517Z
LAST-MODIFIED:20260422T185517Z
UID:10000866-1811930400-1811930400@www.thunderbaycc.ca
SUMMARY:Senior Mens
DESCRIPTION:10 AM Shotgun
URL:https://www.thunderbaycc.ca/event/senior-mens/2027-06-02/
END:VEVENT
BEGIN:VEVENT
DTSTART;TZID=America/New_York:20270609T100000
DTEND;TZID=America/New_York:20270609T100000
DTSTAMP:20260424T071658
CREATED:20260422T185517Z
LAST-MODIFIED:20260422T185517Z
UID:10000867-1812535200-1812535200@www.thunderbaycc.ca
SUMMARY:Senior Mens
DESCRIPTION:10 AM Shotgun
URL:https://www.thunderbaycc.ca/event/senior-mens/2027-06-09/
END:VEVENT
BEGIN:VEVENT
DTSTART;TZID=America/New_York:20270616T100000
DTEND;TZID=America/New_York:20270616T100000
DTSTAMP:20260424T071658
CREATED:20260422T185517Z
LAST-MODIFIED:20260422T185517Z
UID:10000868-1813140000-1813140000@www.thunderbaycc.ca
SUMMARY:Senior Mens
DESCRIPTION:10 AM Shotgun
URL:https://www.thunderbaycc.ca/event/senior-mens/2027-06-16/
END:VEVENT
BEGIN:VEVENT
DTSTART;TZID=America/New_York:20270623T100000
DTEND;TZID=America/New_York:20270623T100000
DTSTAMP:20260424T071658
CREATED:20260422T185517Z
LAST-MODIFIED:20260422T185517Z
UID:10000869-1813744800-1813744800@www.thunderbaycc.ca
SUMMARY:Senior Mens
DESCRIPTION:10 AM Shotgun
URL:https://www.thunderbaycc.ca/event/senior-mens/2027-06-23/
END:VEVENT
BEGIN:VEVENT
DTSTART;TZID=America/New_York:20270630T100000
DTEND;TZID=America/New_York:20270630T100000
DTSTAMP:20260424T071658
CREATED:20260422T185517Z
LAST-MODIFIED:20260422T185517Z
UID:10000870-1814349600-1814349600@www.thunderbaycc.ca
SUMMARY:Senior Mens
DESCRIPTION:10 AM Shotgun
URL:https://www.thunderbaycc.ca/event/senior-mens/2027-06-30/
END:VEVENT
END:VCALENDAR