BEGIN:VCALENDAR
VERSION:2.0
PRODID:-//Thunder Bay Golf - ECPv6.15.18//NONSGML v1.0//EN
CALSCALE:GREGORIAN
METHOD:PUBLISH
X-WR-CALNAME:Thunder Bay Golf
X-ORIGINAL-URL:https://www.thunderbaycc.ca
X-WR-CALDESC:Events for Thunder Bay Golf
REFRESH-INTERVAL;VALUE=DURATION:PT1H
X-Robots-Tag:noindex
X-PUBLISHED-TTL:PT1H
BEGIN:VTIMEZONE
TZID:America/New_York
BEGIN:DAYLIGHT
TZOFFSETFROM:-0500
TZOFFSETTO:-0400
TZNAME:EDT
DTSTART:20250309T070000
END:DAYLIGHT
BEGIN:STANDARD
TZOFFSETFROM:-0400
TZOFFSETTO:-0500
TZNAME:EST
DTSTART:20251102T060000
END:STANDARD
BEGIN:DAYLIGHT
TZOFFSETFROM:-0500
TZOFFSETTO:-0400
TZNAME:EDT
DTSTART:20260308T070000
END:DAYLIGHT
BEGIN:STANDARD
TZOFFSETFROM:-0400
TZOFFSETTO:-0500
TZNAME:EST
DTSTART:20261101T060000
END:STANDARD
BEGIN:DAYLIGHT
TZOFFSETFROM:-0500
TZOFFSETTO:-0400
TZNAME:EDT
DTSTART:20270314T070000
END:DAYLIGHT
BEGIN:STANDARD
TZOFFSETFROM:-0400
TZOFFSETTO:-0500
TZNAME:EST
DTSTART:20271107T060000
END:STANDARD
END:VTIMEZONE
BEGIN:VEVENT
DTSTART;TZID=America/New_York:20260810T150000
DTEND;TZID=America/New_York:20260810T180000
DTSTAMP:20260424T053400
CREATED:20260422T185915Z
LAST-MODIFIED:20260422T185915Z
UID:10000898-1786374000-1786384800@www.thunderbaycc.ca
SUMMARY:Ladies
DESCRIPTION:3:00 PM-6:00 PM
URL:https://www.thunderbaycc.ca/event/ladies/2026-08-10/
END:VEVENT
BEGIN:VEVENT
DTSTART;TZID=America/New_York:20260812T100000
DTEND;TZID=America/New_York:20260812T100000
DTSTAMP:20260424T053400
CREATED:20260422T185517Z
LAST-MODIFIED:20260422T185517Z
UID:10000824-1786528800-1786528800@www.thunderbaycc.ca
SUMMARY:Senior Mens
DESCRIPTION:10 AM Shotgun
URL:https://www.thunderbaycc.ca/event/senior-mens/2026-08-12/
END:VEVENT
BEGIN:VEVENT
DTSTART;TZID=America/New_York:20260813T150000
DTEND;TZID=America/New_York:20260813T150000
DTSTAMP:20260424T053400
CREATED:20260422T152045Z
LAST-MODIFIED:20260422T152234Z
UID:10000802-1786633200-1786633200@www.thunderbaycc.ca
SUMMARY:Men's Night
DESCRIPTION:
URL:https://www.thunderbaycc.ca/event/mens-night/2026-08-13/
ATTACH;FMTTYPE=image/jpeg:https://www.thunderbaycc.ca/wp-content/uploads/sites/8253/2022/03/DSCF8019.jpg
END:VEVENT
BEGIN:VEVENT
DTSTART;TZID=America/New_York:20260817T150000
DTEND;TZID=America/New_York:20260817T180000
DTSTAMP:20260424T053400
CREATED:20260422T185915Z
LAST-MODIFIED:20260422T185915Z
UID:10000899-1786978800-1786989600@www.thunderbaycc.ca
SUMMARY:Ladies
DESCRIPTION:3:00 PM-6:00 PM
URL:https://www.thunderbaycc.ca/event/ladies/2026-08-17/
END:VEVENT
BEGIN:VEVENT
DTSTART;TZID=America/New_York:20260819T100000
DTEND;TZID=America/New_York:20260819T100000
DTSTAMP:20260424T053400
CREATED:20260422T185517Z
LAST-MODIFIED:20260422T185517Z
UID:10000825-1787133600-1787133600@www.thunderbaycc.ca
SUMMARY:Senior Mens
DESCRIPTION:10 AM Shotgun
URL:https://www.thunderbaycc.ca/event/senior-mens/2026-08-19/
END:VEVENT
BEGIN:VEVENT
DTSTART;TZID=America/New_York:20260820T150000
DTEND;TZID=America/New_York:20260820T150000
DTSTAMP:20260424T053400
CREATED:20260422T152045Z
LAST-MODIFIED:20260422T152234Z
UID:10000803-1787238000-1787238000@www.thunderbaycc.ca
SUMMARY:Men's Night
DESCRIPTION:
URL:https://www.thunderbaycc.ca/event/mens-night/2026-08-20/
ATTACH;FMTTYPE=image/jpeg:https://www.thunderbaycc.ca/wp-content/uploads/sites/8253/2022/03/DSCF8019.jpg
END:VEVENT
BEGIN:VEVENT
DTSTART;TZID=America/New_York:20260824T150000
DTEND;TZID=America/New_York:20260824T180000
DTSTAMP:20260424T053400
CREATED:20260422T185915Z
LAST-MODIFIED:20260422T185915Z
UID:10000900-1787583600-1787594400@www.thunderbaycc.ca
SUMMARY:Ladies
DESCRIPTION:3:00 PM-6:00 PM
URL:https://www.thunderbaycc.ca/event/ladies/2026-08-24/
END:VEVENT
BEGIN:VEVENT
DTSTART;TZID=America/New_York:20260826T100000
DTEND;TZID=America/New_York:20260826T100000
DTSTAMP:20260424T053400
CREATED:20260422T185517Z
LAST-MODIFIED:20260422T185517Z
UID:10000826-1787738400-1787738400@www.thunderbaycc.ca
SUMMARY:Senior Mens
DESCRIPTION:10 AM Shotgun
URL:https://www.thunderbaycc.ca/event/senior-mens/2026-08-26/
END:VEVENT
BEGIN:VEVENT
DTSTART;TZID=America/New_York:20260827T150000
DTEND;TZID=America/New_York:20260827T150000
DTSTAMP:20260424T053400
CREATED:20260422T152045Z
LAST-MODIFIED:20260422T152234Z
UID:10000804-1787842800-1787842800@www.thunderbaycc.ca
SUMMARY:Men's Night
DESCRIPTION:
URL:https://www.thunderbaycc.ca/event/mens-night/2026-08-27/
ATTACH;FMTTYPE=image/jpeg:https://www.thunderbaycc.ca/wp-content/uploads/sites/8253/2022/03/DSCF8019.jpg
END:VEVENT
BEGIN:VEVENT
DTSTART;TZID=America/New_York:20260831T150000
DTEND;TZID=America/New_York:20260831T180000
DTSTAMP:20260424T053400
CREATED:20260422T185915Z
LAST-MODIFIED:20260422T185915Z
UID:10000901-1788188400-1788199200@www.thunderbaycc.ca
SUMMARY:Ladies
DESCRIPTION:3:00 PM-6:00 PM
URL:https://www.thunderbaycc.ca/event/ladies/2026-08-31/
END:VEVENT
BEGIN:VEVENT
DTSTART;TZID=America/New_York:20260902T100000
DTEND;TZID=America/New_York:20260902T100000
DTSTAMP:20260424T053400
CREATED:20260422T185517Z
LAST-MODIFIED:20260422T185517Z
UID:10000827-1788343200-1788343200@www.thunderbaycc.ca
SUMMARY:Senior Mens
DESCRIPTION:10 AM Shotgun
URL:https://www.thunderbaycc.ca/event/senior-mens/2026-09-02/
END:VEVENT
BEGIN:VEVENT
DTSTART;TZID=America/New_York:20260903T150000
DTEND;TZID=America/New_York:20260903T150000
DTSTAMP:20260424T053400
CREATED:20260422T152045Z
LAST-MODIFIED:20260422T152234Z
UID:10000805-1788447600-1788447600@www.thunderbaycc.ca
SUMMARY:Men's Night
DESCRIPTION:
URL:https://www.thunderbaycc.ca/event/mens-night/2026-09-03/
ATTACH;FMTTYPE=image/jpeg:https://www.thunderbaycc.ca/wp-content/uploads/sites/8253/2022/03/DSCF8019.jpg
END:VEVENT
BEGIN:VEVENT
DTSTART;TZID=America/New_York:20260907T150000
DTEND;TZID=America/New_York:20260907T180000
DTSTAMP:20260424T053400
CREATED:20260422T185915Z
LAST-MODIFIED:20260422T185915Z
UID:10000902-1788793200-1788804000@www.thunderbaycc.ca
SUMMARY:Ladies
DESCRIPTION:3:00 PM-6:00 PM
URL:https://www.thunderbaycc.ca/event/ladies/2026-09-07/
END:VEVENT
BEGIN:VEVENT
DTSTART;TZID=America/New_York:20260909T100000
DTEND;TZID=America/New_York:20260909T100000
DTSTAMP:20260424T053400
CREATED:20260422T185517Z
LAST-MODIFIED:20260422T185517Z
UID:10000828-1788948000-1788948000@www.thunderbaycc.ca
SUMMARY:Senior Mens
DESCRIPTION:10 AM Shotgun
URL:https://www.thunderbaycc.ca/event/senior-mens/2026-09-09/
END:VEVENT
BEGIN:VEVENT
DTSTART;TZID=America/New_York:20260910T150000
DTEND;TZID=America/New_York:20260910T150000
DTSTAMP:20260424T053400
CREATED:20260422T152045Z
LAST-MODIFIED:20260422T152234Z
UID:10000806-1789052400-1789052400@www.thunderbaycc.ca
SUMMARY:Men's Night
DESCRIPTION:
URL:https://www.thunderbaycc.ca/event/mens-night/2026-09-10/
ATTACH;FMTTYPE=image/jpeg:https://www.thunderbaycc.ca/wp-content/uploads/sites/8253/2022/03/DSCF8019.jpg
END:VEVENT
BEGIN:VEVENT
DTSTART;TZID=America/New_York:20260914T150000
DTEND;TZID=America/New_York:20260914T180000
DTSTAMP:20260424T053400
CREATED:20260422T185915Z
LAST-MODIFIED:20260422T185915Z
UID:10000903-1789398000-1789408800@www.thunderbaycc.ca
SUMMARY:Ladies
DESCRIPTION:3:00 PM-6:00 PM
URL:https://www.thunderbaycc.ca/event/ladies/2026-09-14/
END:VEVENT
BEGIN:VEVENT
DTSTART;TZID=America/New_York:20260916T100000
DTEND;TZID=America/New_York:20260916T100000
DTSTAMP:20260424T053400
CREATED:20260422T185517Z
LAST-MODIFIED:20260422T185517Z
UID:10000829-1789552800-1789552800@www.thunderbaycc.ca
SUMMARY:Senior Mens
DESCRIPTION:10 AM Shotgun
URL:https://www.thunderbaycc.ca/event/senior-mens/2026-09-16/
END:VEVENT
BEGIN:VEVENT
DTSTART;TZID=America/New_York:20260917T150000
DTEND;TZID=America/New_York:20260917T150000
DTSTAMP:20260424T053400
CREATED:20260422T152045Z
LAST-MODIFIED:20260422T152234Z
UID:10000807-1789657200-1789657200@www.thunderbaycc.ca
SUMMARY:Men's Night
DESCRIPTION:
URL:https://www.thunderbaycc.ca/event/mens-night/2026-09-17/
ATTACH;FMTTYPE=image/jpeg:https://www.thunderbaycc.ca/wp-content/uploads/sites/8253/2022/03/DSCF8019.jpg
END:VEVENT
BEGIN:VEVENT
DTSTART;TZID=America/New_York:20260921T150000
DTEND;TZID=America/New_York:20260921T180000
DTSTAMP:20260424T053400
CREATED:20260422T185915Z
LAST-MODIFIED:20260422T185915Z
UID:10000904-1790002800-1790013600@www.thunderbaycc.ca
SUMMARY:Ladies
DESCRIPTION:3:00 PM-6:00 PM
URL:https://www.thunderbaycc.ca/event/ladies/2026-09-21/
END:VEVENT
BEGIN:VEVENT
DTSTART;TZID=America/New_York:20260923T100000
DTEND;TZID=America/New_York:20260923T100000
DTSTAMP:20260424T053400
CREATED:20260422T185517Z
LAST-MODIFIED:20260422T185517Z
UID:10000830-1790157600-1790157600@www.thunderbaycc.ca
SUMMARY:Senior Mens
DESCRIPTION:10 AM Shotgun
URL:https://www.thunderbaycc.ca/event/senior-mens/2026-09-23/
END:VEVENT
BEGIN:VEVENT
DTSTART;TZID=America/New_York:20260924T150000
DTEND;TZID=America/New_York:20260924T150000
DTSTAMP:20260424T053400
CREATED:20260422T152045Z
LAST-MODIFIED:20260422T152234Z
UID:10000808-1790262000-1790262000@www.thunderbaycc.ca
SUMMARY:Men's Night
DESCRIPTION:
URL:https://www.thunderbaycc.ca/event/mens-night/2026-09-24/
ATTACH;FMTTYPE=image/jpeg:https://www.thunderbaycc.ca/wp-content/uploads/sites/8253/2022/03/DSCF8019.jpg
END:VEVENT
BEGIN:VEVENT
DTSTART;TZID=America/New_York:20260928T150000
DTEND;TZID=America/New_York:20260928T180000
DTSTAMP:20260424T053400
CREATED:20260422T185915Z
LAST-MODIFIED:20260422T185915Z
UID:10000905-1790607600-1790618400@www.thunderbaycc.ca
SUMMARY:Ladies
DESCRIPTION:3:00 PM-6:00 PM
URL:https://www.thunderbaycc.ca/event/ladies/2026-09-28/
END:VEVENT
BEGIN:VEVENT
DTSTART;TZID=America/New_York:20260930T100000
DTEND;TZID=America/New_York:20260930T100000
DTSTAMP:20260424T053400
CREATED:20260422T185517Z
LAST-MODIFIED:20260422T185517Z
UID:10000831-1790762400-1790762400@www.thunderbaycc.ca
SUMMARY:Senior Mens
DESCRIPTION:10 AM Shotgun
URL:https://www.thunderbaycc.ca/event/senior-mens/2026-09-30/
END:VEVENT
BEGIN:VEVENT
DTSTART;TZID=America/New_York:20261001T150000
DTEND;TZID=America/New_York:20261001T150000
DTSTAMP:20260424T053400
CREATED:20260422T152045Z
LAST-MODIFIED:20260422T152234Z
UID:10000809-1790866800-1790866800@www.thunderbaycc.ca
SUMMARY:Men's Night
DESCRIPTION:
URL:https://www.thunderbaycc.ca/event/mens-night/2026-10-01/
ATTACH;FMTTYPE=image/jpeg:https://www.thunderbaycc.ca/wp-content/uploads/sites/8253/2022/03/DSCF8019.jpg
END:VEVENT
BEGIN:VEVENT
DTSTART;TZID=America/New_York:20261005T150000
DTEND;TZID=America/New_York:20261005T180000
DTSTAMP:20260424T053400
CREATED:20260422T185915Z
LAST-MODIFIED:20260422T185915Z
UID:10000906-1791212400-1791223200@www.thunderbaycc.ca
SUMMARY:Ladies
DESCRIPTION:3:00 PM-6:00 PM
URL:https://www.thunderbaycc.ca/event/ladies/2026-10-05/
END:VEVENT
BEGIN:VEVENT
DTSTART;TZID=America/New_York:20261007T100000
DTEND;TZID=America/New_York:20261007T100000
DTSTAMP:20260424T053400
CREATED:20260422T185517Z
LAST-MODIFIED:20260422T185517Z
UID:10000832-1791367200-1791367200@www.thunderbaycc.ca
SUMMARY:Senior Mens
DESCRIPTION:10 AM Shotgun
URL:https://www.thunderbaycc.ca/event/senior-mens/2026-10-07/
END:VEVENT
BEGIN:VEVENT
DTSTART;TZID=America/New_York:20261008T150000
DTEND;TZID=America/New_York:20261008T150000
DTSTAMP:20260424T053400
CREATED:20260422T152045Z
LAST-MODIFIED:20260422T152234Z
UID:10000810-1791471600-1791471600@www.thunderbaycc.ca
SUMMARY:Men's Night
DESCRIPTION:
URL:https://www.thunderbaycc.ca/event/mens-night/2026-10-08/
ATTACH;FMTTYPE=image/jpeg:https://www.thunderbaycc.ca/wp-content/uploads/sites/8253/2022/03/DSCF8019.jpg
END:VEVENT
BEGIN:VEVENT
DTSTART;TZID=America/New_York:20261014T100000
DTEND;TZID=America/New_York:20261014T100000
DTSTAMP:20260424T053400
CREATED:20260422T185517Z
LAST-MODIFIED:20260422T185517Z
UID:10000833-1791972000-1791972000@www.thunderbaycc.ca
SUMMARY:Senior Mens
DESCRIPTION:10 AM Shotgun
URL:https://www.thunderbaycc.ca/event/senior-mens/2026-10-14/
END:VEVENT
BEGIN:VEVENT
DTSTART;TZID=America/New_York:20261015T150000
DTEND;TZID=America/New_York:20261015T150000
DTSTAMP:20260424T053400
CREATED:20260422T152045Z
LAST-MODIFIED:20260422T152234Z
UID:10000811-1792076400-1792076400@www.thunderbaycc.ca
SUMMARY:Men's Night
DESCRIPTION:
URL:https://www.thunderbaycc.ca/event/mens-night/2026-10-15/
ATTACH;FMTTYPE=image/jpeg:https://www.thunderbaycc.ca/wp-content/uploads/sites/8253/2022/03/DSCF8019.jpg
END:VEVENT
BEGIN:VEVENT
DTSTART;TZID=America/New_York:20261021T100000
DTEND;TZID=America/New_York:20261021T100000
DTSTAMP:20260424T053400
CREATED:20260422T185517Z
LAST-MODIFIED:20260422T185517Z
UID:10000834-1792576800-1792576800@www.thunderbaycc.ca
SUMMARY:Senior Mens
DESCRIPTION:10 AM Shotgun
URL:https://www.thunderbaycc.ca/event/senior-mens/2026-10-21/
END:VEVENT
END:VCALENDAR