BEGIN:VCALENDAR
VERSION:2.0
PRODID:-//Thunder Bay Golf - ECPv6.15.18//NONSGML v1.0//EN
CALSCALE:GREGORIAN
METHOD:PUBLISH
X-ORIGINAL-URL:https://www.thunderbaycc.ca
X-WR-CALDESC:Events for Thunder Bay Golf
REFRESH-INTERVAL;VALUE=DURATION:PT1H
X-Robots-Tag:noindex
X-PUBLISHED-TTL:PT1H
BEGIN:VTIMEZONE
TZID:America/New_York
BEGIN:DAYLIGHT
TZOFFSETFROM:-0500
TZOFFSETTO:-0400
TZNAME:EDT
DTSTART:20260308T070000
END:DAYLIGHT
BEGIN:STANDARD
TZOFFSETFROM:-0400
TZOFFSETTO:-0500
TZNAME:EST
DTSTART:20261101T060000
END:STANDARD
BEGIN:DAYLIGHT
TZOFFSETFROM:-0500
TZOFFSETTO:-0400
TZNAME:EDT
DTSTART:20270314T070000
END:DAYLIGHT
BEGIN:STANDARD
TZOFFSETFROM:-0400
TZOFFSETTO:-0500
TZNAME:EST
DTSTART:20271107T060000
END:STANDARD
BEGIN:DAYLIGHT
TZOFFSETFROM:-0500
TZOFFSETTO:-0400
TZNAME:EDT
DTSTART:20280312T070000
END:DAYLIGHT
BEGIN:STANDARD
TZOFFSETFROM:-0400
TZOFFSETTO:-0500
TZNAME:EST
DTSTART:20281105T060000
END:STANDARD
END:VTIMEZONE
BEGIN:VEVENT
DTSTART;TZID=America/New_York:20270818T100000
DTEND;TZID=America/New_York:20270818T100000
DTSTAMP:20260424T112624
CREATED:20260422T185517Z
LAST-MODIFIED:20260422T185517Z
UID:10000877-1818583200-1818583200@www.thunderbaycc.ca
SUMMARY:Senior Mens
DESCRIPTION:10 AM Shotgun
URL:https://www.thunderbaycc.ca/event/senior-mens/2027-08-18/
END:VEVENT
BEGIN:VEVENT
DTSTART;TZID=America/New_York:20270825T100000
DTEND;TZID=America/New_York:20270825T100000
DTSTAMP:20260424T112624
CREATED:20260422T185517Z
LAST-MODIFIED:20260422T185517Z
UID:10000878-1819188000-1819188000@www.thunderbaycc.ca
SUMMARY:Senior Mens
DESCRIPTION:10 AM Shotgun
URL:https://www.thunderbaycc.ca/event/senior-mens/2027-08-25/
END:VEVENT
BEGIN:VEVENT
DTSTART;TZID=America/New_York:20270901T100000
DTEND;TZID=America/New_York:20270901T100000
DTSTAMP:20260424T112624
CREATED:20260422T185517Z
LAST-MODIFIED:20260422T185517Z
UID:10000879-1819792800-1819792800@www.thunderbaycc.ca
SUMMARY:Senior Mens
DESCRIPTION:10 AM Shotgun
URL:https://www.thunderbaycc.ca/event/senior-mens/2027-09-01/
END:VEVENT
BEGIN:VEVENT
DTSTART;TZID=America/New_York:20270908T100000
DTEND;TZID=America/New_York:20270908T100000
DTSTAMP:20260424T112624
CREATED:20260422T185517Z
LAST-MODIFIED:20260422T185517Z
UID:10000880-1820397600-1820397600@www.thunderbaycc.ca
SUMMARY:Senior Mens
DESCRIPTION:10 AM Shotgun
URL:https://www.thunderbaycc.ca/event/senior-mens/2027-09-08/
END:VEVENT
BEGIN:VEVENT
DTSTART;TZID=America/New_York:20270915T100000
DTEND;TZID=America/New_York:20270915T100000
DTSTAMP:20260424T112624
CREATED:20260422T185517Z
LAST-MODIFIED:20260422T185517Z
UID:10000881-1821002400-1821002400@www.thunderbaycc.ca
SUMMARY:Senior Mens
DESCRIPTION:10 AM Shotgun
URL:https://www.thunderbaycc.ca/event/senior-mens/2027-09-15/
END:VEVENT
BEGIN:VEVENT
DTSTART;TZID=America/New_York:20270922T100000
DTEND;TZID=America/New_York:20270922T100000
DTSTAMP:20260424T112624
CREATED:20260422T185517Z
LAST-MODIFIED:20260422T185517Z
UID:10000882-1821607200-1821607200@www.thunderbaycc.ca
SUMMARY:Senior Mens
DESCRIPTION:10 AM Shotgun
URL:https://www.thunderbaycc.ca/event/senior-mens/2027-09-22/
END:VEVENT
BEGIN:VEVENT
DTSTART;TZID=America/New_York:20270929T100000
DTEND;TZID=America/New_York:20270929T100000
DTSTAMP:20260424T112624
CREATED:20260422T185517Z
LAST-MODIFIED:20260422T185517Z
UID:10000883-1822212000-1822212000@www.thunderbaycc.ca
SUMMARY:Senior Mens
DESCRIPTION:10 AM Shotgun
URL:https://www.thunderbaycc.ca/event/senior-mens/2027-09-29/
END:VEVENT
BEGIN:VEVENT
DTSTART;TZID=America/New_York:20271006T100000
DTEND;TZID=America/New_York:20271006T100000
DTSTAMP:20260424T112624
CREATED:20260422T185517Z
LAST-MODIFIED:20260422T185517Z
UID:10000884-1822816800-1822816800@www.thunderbaycc.ca
SUMMARY:Senior Mens
DESCRIPTION:10 AM Shotgun
URL:https://www.thunderbaycc.ca/event/senior-mens/2027-10-06/
END:VEVENT
BEGIN:VEVENT
DTSTART;TZID=America/New_York:20271013T100000
DTEND;TZID=America/New_York:20271013T100000
DTSTAMP:20260424T112624
CREATED:20260422T185517Z
LAST-MODIFIED:20260422T185517Z
UID:10000885-1823421600-1823421600@www.thunderbaycc.ca
SUMMARY:Senior Mens
DESCRIPTION:10 AM Shotgun
URL:https://www.thunderbaycc.ca/event/senior-mens/2027-10-13/
END:VEVENT
END:VCALENDAR